BEGIN:VCALENDAR
VERSION:2.0
PRODID:Events Booking
BEGIN:VEVENT
UID:69e7cbf81139d
SUMMARY:Wissenstest
DESCRIPTION:
DTSTART:20230125T230000Z
DTSTAMP:20221218T183009Z
ORGANIZER;CN=Kreisfeuerwehrverband Landsberg:MAILTO:anmeldung@kfv-landsberg
 .net
END:VEVENT
END:VCALENDAR