BEGIN:VCALENDAR
VERSION:2.0
PRODID:Events Booking
BEGIN:VEVENT
UID:69e7e2b5209ab
SUMMARY:Wissenstest Windach
DESCRIPTION:
DTSTART:20171206T180000Z
DTSTAMP:20260421T204853Z
ORGANIZER;CN=Kreisfeuerwehrverband Landsberg:MAILTO:anmeldung@kfv-landsberg
 .net
END:VEVENT
END:VCALENDAR