BEGIN:VCALENDAR
VERSION:2.0
PRODID:Events Booking
BEGIN:VEVENT
UID:69e9f711905b3
SUMMARY:Wissenstest Utting
DESCRIPTION:
DTSTART:20171207T180000Z
DTSTAMP:20260423T104017Z
ORGANIZER;CN=Kreisfeuerwehrverband Landsberg:MAILTO:anmeldung@kfv-landsberg
 .net
END:VEVENT
END:VCALENDAR