BEGIN:VCALENDAR
VERSION:2.0
PRODID:Events Booking
BEGIN:VEVENT
UID:69e7e25d6d025
SUMMARY:Wissenstest Scheuring
DESCRIPTION:
DTSTART:20171205T180000Z
DTSTAMP:20260421T204725Z
ORGANIZER;CN=Kreisfeuerwehrverband Landsberg:MAILTO:anmeldung@kfv-landsberg
 .net
END:VEVENT
END:VCALENDAR