BEGIN:VCALENDAR
VERSION:2.0
PRODID:Events Booking
BEGIN:VEVENT
UID:69e7e31dc12fc
SUMMARY:Wissenstest Mundraching
DESCRIPTION:
DTSTART:20180112T183000Z
DTSTAMP:20260421T205037Z
ORGANIZER;CN=Kreisfeuerwehrverband Landsberg:MAILTO:anmeldung@kfv-landsberg
 .net
END:VEVENT
END:VCALENDAR