BEGIN:VCALENDAR
VERSION:2.0
PRODID:Events Booking
BEGIN:VEVENT
UID:69e7e22c026de
SUMMARY:Wissenstest Eresing
DESCRIPTION:
DTSTART:20171129T180000Z
DTSTAMP:20260421T204636Z
ORGANIZER;CN=Kreisfeuerwehrverband Landsberg:MAILTO:anmeldung@kfv-landsberg
 .net
END:VEVENT
END:VCALENDAR