BEGIN:VCALENDAR
VERSION:2.0
PRODID:Events Booking
BEGIN:VEVENT
UID:69e7e25c669de
SUMMARY:Wissenstest Eching
DESCRIPTION:
DTSTART:20171128T173000Z
DTSTAMP:20260421T204724Z
ORGANIZER;CN=Kreisfeuerwehrverband Landsberg:MAILTO:anmeldung@kfv-landsberg
 .net
END:VEVENT
END:VCALENDAR