BEGIN:VCALENDAR
VERSION:2.0
PRODID:Events Booking
BEGIN:VEVENT
UID:69e7f4c7293c1
SUMMARY:Wissenstest Denklingen
DESCRIPTION:
LOCATION:Hauptstraße 9\, 86920 Denklingen\, Deutschland
DTSTART:20171127T173000Z
DTSTAMP:20260421T220559Z
ORGANIZER;CN=Kreisfeuerwehrverband Landsberg:MAILTO:anmeldung@kfv-landsberg
 .net
GEO:47.914713;10.850976
X-APPLE-STRUCTURED-LOCATION;VALUE=URI;X-ADDRESS=Hauptstraße 9\, 86920 Denk
 lingen\, Deutschland;X-APPLE-RADIUS=72;X-TITLE=Feuerwehr Denklingen:47.914
 713;10.850976
END:VEVENT
END:VCALENDAR