BEGIN:VCALENDAR
VERSION:2.0
PRODID:Events Booking
BEGIN:VEVENT
UID:69e7cc2c27ba5
SUMMARY:Wissenstest 2018 (Utting)
DESCRIPTION:
LOCATION:Maria-Theresia-Straße 12A\, 86919 Utting am Ammersee\, Deutschlan
 d
DTSTART:20181127T180000Z
DTSTAMP:20260421T191244Z
ORGANIZER;CN=Kreisfeuerwehrverband Landsberg:MAILTO:anmeldung@kfv-landsberg
 .net
GEO:48.02382;11.09267
X-APPLE-STRUCTURED-LOCATION;VALUE=URI;X-ADDRESS=Maria-Theresia-Straße 12A\
 , 86919 Utting am Ammersee\, Deutschland;X-APPLE-RADIUS=72;X-TITLE=Feuerwe
 hr Utting:48.02382;11.09267
END:VEVENT
END:VCALENDAR