BEGIN:VCALENDAR
VERSION:2.0
PRODID:Events Booking
BEGIN:VEVENT
UID:69e7cbdd33ea0
SUMMARY:Wissenstest 2018 (Scheuring)
DESCRIPTION:
LOCATION:Buchenweg 13\, 86937 Scheuring\, Deutschland
DTSTART:20181206T150000Z
DTSTAMP:20260421T191125Z
ORGANIZER;CN=Kreisfeuerwehrverband Landsberg:MAILTO:anmeldung@kfv-landsberg
 .net
GEO:48.1711;10.89077
X-APPLE-STRUCTURED-LOCATION;VALUE=URI;X-ADDRESS=Buchenweg 13\, 86937 Scheur
 ing\, Deutschland;X-APPLE-RADIUS=72;X-TITLE=Feuerwehr Scheuring:48.1711;10
 .89077
END:VEVENT
END:VCALENDAR