BEGIN:VCALENDAR
VERSION:2.0
PRODID:Events Booking
BEGIN:VEVENT
UID:69e7cd1c5992e
SUMMARY:Wissenstest 2018 (Riederau)
DESCRIPTION:
DTSTART:20181207T180000Z
DTSTAMP:20260421T191644Z
ORGANIZER;CN=Kreisfeuerwehrverband Landsberg:MAILTO:anmeldung@kfv-landsberg
 .net
END:VEVENT
END:VCALENDAR