BEGIN:VCALENDAR
VERSION:2.0
PRODID:Events Booking
BEGIN:VEVENT
UID:69e7cc451553b
SUMMARY:Wissenstest 2018 (Penzing)
DESCRIPTION:
LOCATION:Weiherstraße 5\, 86929 Penzing\, Deutschland
DTSTART:20181205T180000Z
DTSTAMP:20260421T191309Z
ORGANIZER;CN=Kreisfeuerwehrverband Landsberg:MAILTO:anmeldung@kfv-landsberg
 .net
GEO:48.075574;10.928607
X-APPLE-STRUCTURED-LOCATION;VALUE=URI;X-ADDRESS=Weiherstraße 5\, 86929 Pen
 zing\, Deutschland;X-APPLE-RADIUS=72;X-TITLE=Feuerwehr Penzing:48.075574;1
 0.928607
END:VEVENT
END:VCALENDAR