BEGIN:VCALENDAR
VERSION:2.0
PRODID:Events Booking
BEGIN:VEVENT
UID:69e7cbc54891e
SUMMARY:Wissenstest 2018 (Eresing)
DESCRIPTION:
LOCATION:Kaspar-Ett-Straße 24A\, 86922 Eresing\, Deutschland
DTSTART:20181128T180000Z
DTSTAMP:20260421T191101Z
ORGANIZER;CN=Kreisfeuerwehrverband Landsberg:MAILTO:anmeldung@kfv-landsberg
 .net
GEO:48.08835;11.02457
X-APPLE-STRUCTURED-LOCATION;VALUE=URI;X-ADDRESS=Kaspar-Ett-Straße 24A\, 86
 922 Eresing\, Deutschland;X-APPLE-RADIUS=72;X-TITLE=Feuerwehr Eresing:48.0
 8835;11.02457
END:VEVENT
END:VCALENDAR