BEGIN:VCALENDAR
VERSION:2.0
PRODID:Events Booking
BEGIN:VEVENT
UID:69e7cbdd3414e
SUMMARY:Wissenstest 2018 (Eching)
DESCRIPTION:
LOCATION:Am Windachfeld 6\, 82279 Eching am Ammersee\, Deutschland
DTSTART:20181204T180000Z
DTSTAMP:20260421T191125Z
ORGANIZER;CN=Kreisfeuerwehrverband Landsberg:MAILTO:anmeldung@kfv-landsberg
 .net
GEO:48.07796;11.114326
X-APPLE-STRUCTURED-LOCATION;VALUE=URI;X-ADDRESS=Am Windachfeld 6\, 82279 Ec
 hing am Ammersee\, Deutschland;X-APPLE-RADIUS=72;X-TITLE=Feuerwehr Eching:
 48.07796;11.114326
END:VEVENT
END:VCALENDAR