BEGIN:VCALENDAR
VERSION:2.0
PRODID:Events Booking
BEGIN:VEVENT
UID:69e7f850e0b5c
SUMMARY:Vernetzungstreffen Kinderfeuerwehr Pürgen
DESCRIPTION:
DTSTART:20190116T230000Z
DTSTAMP:20260421T222104Z
ORGANIZER;CN=Kreisfeuerwehrverband Landsberg:MAILTO:anmeldung@kfv-landsberg
 .net
END:VEVENT
END:VCALENDAR