BEGIN:VCALENDAR
VERSION:2.0
PRODID:Events Booking
BEGIN:VEVENT
UID:69e7632dce31b
SUMMARY:Standarten Weihe Beuerbach
DESCRIPTION:
DTSTART:20230701T220000Z
DTSTAMP:20230510T155405Z
ORGANIZER;CN=Kreisfeuerwehrverband Landsberg:MAILTO:anmeldung@kfv-landsberg
 .net
END:VEVENT
END:VCALENDAR