BEGIN:VCALENDAR
VERSION:2.0
PRODID:Events Booking
BEGIN:VEVENT
UID:69e7692226c89
SUMMARY:Stammtisch Inspektionsmitglieder und Ehemalige
DESCRIPTION:
DTSTART:20230621T220000Z
DTSTAMP:20230510T155213Z
ORGANIZER;CN=Kreisfeuerwehrverband Landsberg:MAILTO:anmeldung@kfv-landsberg
 .net
END:VEVENT
END:VCALENDAR