BEGIN:VCALENDAR
VERSION:2.0
PRODID:Events Booking
BEGIN:VEVENT
UID:69e7a26648d78
SUMMARY:Sitzung Inspektion
DESCRIPTION:
DTSTART:20230308T180000Z
DTSTAMP:20221211T194318Z
ORGANIZER;CN=Kreisfeuerwehrverband Landsberg:MAILTO:anmeldung@kfv-landsberg
 .net
END:VEVENT
END:VCALENDAR