BEGIN:VCALENDAR
VERSION:2.0
PRODID:Events Booking
BEGIN:VEVENT
UID:69e7cc480e882
SUMMARY:Seminar Notfall- und Krisenmanagement
DESCRIPTION:
DTSTART:20181109T230000Z
DTSTAMP:20260421T191312Z
ORGANIZER;CN=Kreisfeuerwehrverband Landsberg:MAILTO:anmeldung@kfv-landsberg
 .net
END:VEVENT
END:VCALENDAR