BEGIN:VCALENDAR
VERSION:2.0
PRODID:Events Booking
BEGIN:VEVENT
UID:69e7bf7372fa5
SUMMARY:Schulung für Deichverteidigung
DESCRIPTION:
DTSTART:20230523T220000Z
DTSTAMP:20230510T154924Z
ORGANIZER;CN=Kreisfeuerwehrverband Landsberg:MAILTO:anmeldung@kfv-landsberg
 .net
END:VEVENT
END:VCALENDAR