BEGIN:VCALENDAR
VERSION:2.0
PRODID:Events Booking
BEGIN:VEVENT
UID:69e779dc4a510
SUMMARY:Schaumtrainer Diessen
DESCRIPTION:
DTSTART:20230616T220000Z
DTSTAMP:20230510T155132Z
ORGANIZER;CN=Kreisfeuerwehrverband Landsberg:MAILTO:anmeldung@kfv-landsberg
 .net
END:VEVENT
END:VCALENDAR