BEGIN:VCALENDAR
VERSION:2.0
PRODID:Events Booking
BEGIN:VEVENT
UID:69e78ddb02122
SUMMARY:Online Sitzung FB 8
DESCRIPTION:
DTSTART:20230623T220000Z
DTSTAMP:20230510T155337Z
ORGANIZER;CN=Kreisfeuerwehrverband Landsberg:MAILTO:anmeldung@kfv-landsberg
 .net
END:VEVENT
END:VCALENDAR