BEGIN:VCALENDAR
VERSION:2.0
PRODID:Events Booking
BEGIN:VEVENT
UID:69e7cc9329e45
SUMMARY:Mitgliederwerbung Jugendfeuerwehr
DESCRIPTION:Workshop Mitgliedergewinnung – Mitglieder finden und binden

  Der Workshop soll Sie dabei unterstützen\, aktive Mitglieder für Ihre F
 euerwehr zu gewinnen. Hierzu erarbeiten Sie gemeinsam mit Trainer/-innen d
 er Bayerischen Akademie für Verwaltungs Management in einem eintägigen W
 orkshop kreative Ideen\, wie mögliche Mitglieder gefunden\, angesprochen 
 und dazu ermutigt werden können\, sich für die Aufgaben und die damit ve
 rbundenen Tätigkeiten bei der Freiwilligen Feuerwehr zu begeistern. 
 Ab
 lauf und Inhalt 
 
 09:00 Uhr Kennenlernen & Warming up  
 
 Erfahr
 ungsaustausch  
 Ideenlandschaft „Mitgliedergewinnung“  
 Ansp
 rache neuer Zielgruppen 
 
 
 12:30 Uhr Mittagspause 
 13:30 Uhr Probe
 bühne  
 
 Vertiefung rhetorischer und kommunikativer Aspekte  

  Praktische Übungen 
  Vernetzungsmöglichkeiten 
 
 
 16:30 Uhr A
 bschlussrunde
 
 Teilnehmer/-innen Kommandant/-in sowie deren Stellvertr
 eter/-in\, Vorsitzende/r sowie deren Stellvertreter/-in\, Jugendwart/-in o
 der Beauftragte/r für Öffentlichkeitsarbeit und Mitgliedergewinnung
 An
 meldung: Bitte beachten Sie\, dass der Teilnehmer/-innenkreis auf 20 Perso
 nen begrenzt ist. Um möglichst vielen Feuerwehren eine Teilnahme zu ermö
 glichen\, ist die Teilnahme zunächst auf eine Person pro Feuerwehr begren
 zt. Für den Fall\, dass Plätze frei bleiben\, können Nachrücker/-innen
  benannt werden.
LOCATION:Saarburgstraße 2\, 86899 Landsberg am Lech\, Deutschland
DTSTART:20210629T070000Z
DTEND:20210629T150000Z
DTSTAMP:20260421T191427Z
ORGANIZER;CN=Kreisfeuerwehrverband Landsberg:MAILTO:anmeldung@kfv-landsberg
 .net
GEO:48.04225;10.86754
X-APPLE-STRUCTURED-LOCATION;VALUE=URI;X-ADDRESS=Saarburgstraße 2\, 86899 L
 andsberg am Lech\, Deutschland;X-APPLE-RADIUS=72;X-TITLE=Feuerwehr Landsbe
 rg:48.04225;10.86754
END:VEVENT
END:VCALENDAR