BEGIN:VCALENDAR
VERSION:2.0
PRODID:Events Booking
BEGIN:VEVENT
UID:69e9dca5868bb
SUMMARY:LRA Blackout Abstimmung
DESCRIPTION:
DTSTART:20221220T230000Z
DTEND:20221221T230000Z
DTSTAMP:20221218T112602Z
ORGANIZER;CN=Kreisfeuerwehrverband Landsberg:MAILTO:anmeldung@kfv-landsberg
 .net
END:VEVENT
END:VCALENDAR