BEGIN:VCALENDAR
VERSION:2.0
PRODID:Events Booking
BEGIN:VEVENT
UID:69e78fc2794ca
SUMMARY:LFV Ushl Besp ABEK
DESCRIPTION:
DTSTART:20230510T220000Z
DTSTAMP:20230510T154520Z
ORGANIZER;CN=Kreisfeuerwehrverband Landsberg:MAILTO:anmeldung@kfv-landsberg
 .net
END:VEVENT
END:VCALENDAR