BEGIN:VCALENDAR
VERSION:2.0
PRODID:Events Booking
BEGIN:VEVENT
UID:69e7f9bf0479d
SUMMARY:Kreisjugendvernetzungstreffen Penzberg (WM)
DESCRIPTION:
DTSTART:20181114T180000Z
DTSTAMP:20260421T222711Z
ORGANIZER;CN=Kreisfeuerwehrverband Landsberg:MAILTO:anmeldung@kfv-landsberg
 .net
END:VEVENT
END:VCALENDAR