BEGIN:VCALENDAR
VERSION:2.0
PRODID:Events Booking
BEGIN:VEVENT
UID:69e7cd671b68f
SUMMARY:Kreisjugendvernetzugstreffen Berg (STA)
DESCRIPTION:
DTSTART:20180313T180000Z
DTSTAMP:20260421T191759Z
ORGANIZER;CN=Kreisfeuerwehrverband Landsberg:MAILTO:anmeldung@kfv-landsberg
 .net
END:VEVENT
END:VCALENDAR