BEGIN:VCALENDAR
VERSION:2.0
PRODID:Events Booking
BEGIN:VEVENT
UID:69e795957e98b
SUMMARY:Kommandantenwahl FF Pitzling
DESCRIPTION:
DTSTART:20230514T220000Z
DTSTAMP:20230510T154600Z
ORGANIZER;CN=Kreisfeuerwehrverband Landsberg:MAILTO:anmeldung@kfv-landsberg
 .net
END:VEVENT
END:VCALENDAR