BEGIN:VCALENDAR
VERSION:2.0
PRODID:Events Booking
BEGIN:VEVENT
UID:69e8209828d3d
SUMMARY:Kdt. Tagung
DESCRIPTION:Denklingen Bürger und Vereine Zentrum
DTSTART:20220929T220000Z
DTSTAMP:20220202T180151Z
ORGANIZER;CN=Kreisfeuerwehrverband Landsberg:MAILTO:anmeldung@kfv-landsberg
 .net
END:VEVENT
END:VCALENDAR