BEGIN:VCALENDAR
VERSION:2.0
PRODID:Events Booking
BEGIN:VEVENT
UID:69e7cc8edb24b
SUMMARY:Jugendfeuerwehr Seminar
DESCRIPTION:
LOCATION:Reischer Str.\, Pürgen\, 86932 Bayern\, Deutschland
DTSTART:20220609T170000Z
DTSTAMP:20220518T050100Z
ORGANIZER;CN=Kreisfeuerwehrverband Landsberg:MAILTO:anmeldung@kfv-landsberg
 .net
GEO:48.033613;10.919636
X-APPLE-STRUCTURED-LOCATION;VALUE=URI;X-ADDRESS=Reischer Str.\, Pürgen\, 8
 6932 Bayern\, Deutschland;X-APPLE-RADIUS=72;X-TITLE=Feuerwehr Ausbildungsz
 entrum:48.033613;10.919636
END:VEVENT
END:VCALENDAR