BEGIN:VCALENDAR
VERSION:2.0
PRODID:Events Booking
BEGIN:VEVENT
UID:69e84974b20da
SUMMARY:JHV Utting
DESCRIPTION:
DTSTART:20220729T220000Z
DTSTAMP:20220706T154246Z
ORGANIZER;CN=Kreisfeuerwehrverband Landsberg:MAILTO:anmeldung@kfv-landsberg
 .net
END:VEVENT
END:VCALENDAR