BEGIN:VCALENDAR
VERSION:2.0
PRODID:Events Booking
BEGIN:VEVENT
UID:69e5ff7cb4fcd
SUMMARY:JHV Schondorf
DESCRIPTION:
DTSTART:20240418T220000Z
DTSTAMP:20240213T193004Z
ORGANIZER;CN=Kreisfeuerwehrverband Landsberg:MAILTO:anmeldung@kfv-landsberg
 .net
END:VEVENT
END:VCALENDAR