BEGIN:VCALENDAR
VERSION:2.0
PRODID:Events Booking
BEGIN:VEVENT
UID:69e7a36e03118
SUMMARY:JHV Rott
DESCRIPTION:
DTSTART:20230302T230000Z
DTSTAMP:20230202T191914Z
ORGANIZER;CN=Kreisfeuerwehrverband Landsberg:MAILTO:anmeldung@kfv-landsberg
 .net
END:VEVENT
END:VCALENDAR