BEGIN:VCALENDAR
VERSION:2.0
PRODID:Events Booking
BEGIN:VEVENT
UID:69e5eb6350a7f
SUMMARY:JHV Prittriching
DESCRIPTION:
DTSTART:20240307T230000Z
DTSTAMP:20240213T192349Z
ORGANIZER;CN=Kreisfeuerwehrverband Landsberg:MAILTO:anmeldung@kfv-landsberg
 .net
END:VEVENT
END:VCALENDAR