BEGIN:VCALENDAR
VERSION:2.0
PRODID:Events Booking
BEGIN:VEVENT
UID:69e7a3e58b632
SUMMARY:JHV Pflugdorf-Stadl
DESCRIPTION:
DTSTART:20230301T230000Z
DTSTAMP:20230202T191825Z
ORGANIZER;CN=Kreisfeuerwehrverband Landsberg:MAILTO:anmeldung@kfv-landsberg
 .net
END:VEVENT
END:VCALENDAR