BEGIN:VCALENDAR
VERSION:2.0
PRODID:Events Booking
BEGIN:VEVENT
UID:69e7ce7b1645f
SUMMARY:JHV Oberdießen
DESCRIPTION:
DTSTART:20230224T230000Z
DTSTAMP:20230202T191758Z
ORGANIZER;CN=Kreisfeuerwehrverband Landsberg:MAILTO:anmeldung@kfv-landsberg
 .net
END:VEVENT
END:VCALENDAR