BEGIN:VCALENDAR
VERSION:2.0
PRODID:Events Booking
BEGIN:VEVENT
UID:69e7e2b82bc96
SUMMARY:JHV Oberbergen
DESCRIPTION:
DTSTART:20230202T230000Z
DTSTAMP:20230202T191155Z
ORGANIZER;CN=Kreisfeuerwehrverband Landsberg:MAILTO:anmeldung@kfv-landsberg
 .net
END:VEVENT
END:VCALENDAR