BEGIN:VCALENDAR
VERSION:2.0
PRODID:Events Booking
BEGIN:VEVENT
UID:69e7b7a01922d
SUMMARY:JHV Igling
DESCRIPTION:
DTSTART:20230223T230000Z
DTSTAMP:20230202T191715Z
ORGANIZER;CN=Kreisfeuerwehrverband Landsberg:MAILTO:anmeldung@kfv-landsberg
 .net
END:VEVENT
END:VCALENDAR