BEGIN:VCALENDAR
VERSION:2.0
PRODID:Events Booking
BEGIN:VEVENT
UID:69e8df6847a9c
SUMMARY:JHV Hagenheim
DESCRIPTION:
DTSTART:20240321T230000Z
DTSTAMP:20240213T192707Z
ORGANIZER;CN=Kreisfeuerwehrverband Landsberg:MAILTO:anmeldung@kfv-landsberg
 .net
END:VEVENT
END:VCALENDAR