BEGIN:VCALENDAR
VERSION:2.0
PRODID:Events Booking
BEGIN:VEVENT
UID:69e78fbd9735c
SUMMARY:JHV Greifenberg
DESCRIPTION:
DTSTART:20230601T220000Z
DTSTAMP:20230510T155001Z
ORGANIZER;CN=Kreisfeuerwehrverband Landsberg:MAILTO:anmeldung@kfv-landsberg
 .net
END:VEVENT
END:VCALENDAR