BEGIN:VCALENDAR
VERSION:2.0
PRODID:Events Booking
BEGIN:VEVENT
UID:69e835ce2b49e
SUMMARY:JHV Greifenberg
DESCRIPTION:
DTSTART:20220804T220000Z
DTSTAMP:20220706T154504Z
ORGANIZER;CN=Kreisfeuerwehrverband Landsberg:MAILTO:anmeldung@kfv-landsberg
 .net
END:VEVENT
END:VCALENDAR