BEGIN:VCALENDAR
VERSION:2.0
PRODID:Events Booking
BEGIN:VEVENT
UID:69e78fb871229
SUMMARY:JHV Epfach
DESCRIPTION:
DTSTART:20251107T190000Z
DTSTAMP:20241211T181310Z
ORGANIZER;CN=Kreisfeuerwehrverband Landsberg:MAILTO:anmeldung@kfv-landsberg
 .net
END:VEVENT
END:VCALENDAR