BEGIN:VCALENDAR
VERSION:2.0
PRODID:Events Booking
BEGIN:VEVENT
UID:69e7d068a0112
SUMMARY:JHV Ellighofen
DESCRIPTION:
DTSTART:20230206T230000Z
DTSTAMP:20230202T191359Z
ORGANIZER;CN=Kreisfeuerwehrverband Landsberg:MAILTO:anmeldung@kfv-landsberg
 .net
END:VEVENT
END:VCALENDAR