BEGIN:VCALENDAR
VERSION:2.0
PRODID:Events Booking
BEGIN:VEVENT
UID:69e63c8be448f
SUMMARY:JHV Eching mit Wahlen
DESCRIPTION:
DTSTART:20250120T183000Z
DTSTAMP:20241211T172407Z
ORGANIZER;CN=Kreisfeuerwehrverband Landsberg:MAILTO:anmeldung@kfv-landsberg
 .net
END:VEVENT
END:VCALENDAR