BEGIN:VCALENDAR
VERSION:2.0
PRODID:Events Booking
BEGIN:VEVENT
UID:69e5eb4a09436
SUMMARY:JHV Dießen
DESCRIPTION:
DTSTART:20240315T230000Z
DTSTAMP:20240213T192539Z
ORGANIZER;CN=Kreisfeuerwehrverband Landsberg:MAILTO:anmeldung@kfv-landsberg
 .net
END:VEVENT
END:VCALENDAR