BEGIN:VCALENDAR
VERSION:2.0
PRODID:Events Booking
BEGIN:VEVENT
UID:69e7a3e0589fc
SUMMARY:JHV Dienhausen
DESCRIPTION:
DTSTART:20230305T230000Z
DTSTAMP:20230202T191957Z
ORGANIZER;CN=Kreisfeuerwehrverband Landsberg:MAILTO:anmeldung@kfv-landsberg
 .net
END:VEVENT
END:VCALENDAR