BEGIN:VCALENDAR
VERSION:2.0
PRODID:Events Booking
BEGIN:VEVENT
UID:69e7e7798a816
SUMMARY:JHV Dettenhofen
DESCRIPTION:
DTSTART:20230117T230000Z
DTSTAMP:20221218T112846Z
ORGANIZER;CN=Kreisfeuerwehrverband Landsberg:MAILTO:anmeldung@kfv-landsberg
 .net
END:VEVENT
END:VCALENDAR