BEGIN:VCALENDAR
VERSION:2.0
PRODID:Events Booking
BEGIN:VEVENT
UID:69eb57c468c6a
SUMMARY:JHV Dettenhofen
DESCRIPTION:
DTSTART:20220622T220000Z
DTSTAMP:20220608T153656Z
ORGANIZER;CN=Kreisfeuerwehrverband Landsberg:MAILTO:anmeldung@kfv-landsberg
 .net
END:VEVENT
END:VCALENDAR