BEGIN:VCALENDAR
VERSION:2.0
PRODID:Events Booking
BEGIN:VEVENT
UID:69e5eb6d594e3
SUMMARY:JHV Beuerbach
DESCRIPTION:
DTSTART:20250113T180000Z
DTSTAMP:20241211T172203Z
ORGANIZER;CN=Kreisfeuerwehrverband Landsberg:MAILTO:anmeldung@kfv-landsberg
 .net
END:VEVENT
END:VCALENDAR