BEGIN:VCALENDAR
VERSION:2.0
PRODID:Events Booking
BEGIN:VEVENT
UID:69e4e780a6c1a
SUMMARY:JHV Asch
DESCRIPTION:Haus der Begegnung (6x 25er)
DTSTART:20250110T180000Z
DTSTAMP:20241211T172134Z
ORGANIZER;CN=Kreisfeuerwehrverband Landsberg:MAILTO:anmeldung@kfv-landsberg
 .net
END:VEVENT
END:VCALENDAR